BEGIN:VCALENDAR
VERSION:2.0
PRODID:-//Grand Junction Newcomers Club - ECPv6.15.17.1//NONSGML v1.0//EN
CALSCALE:GREGORIAN
METHOD:PUBLISH
X-ORIGINAL-URL:https://gjnewcomers.org
X-WR-CALDESC:Events for Grand Junction Newcomers Club
REFRESH-INTERVAL;VALUE=DURATION:PT1H
X-Robots-Tag:noindex
X-PUBLISHED-TTL:PT1H
BEGIN:VTIMEZONE
TZID:America/Denver
BEGIN:DAYLIGHT
TZOFFSETFROM:-0700
TZOFFSETTO:-0600
TZNAME:MDT
DTSTART:20250309T090000
END:DAYLIGHT
BEGIN:STANDARD
TZOFFSETFROM:-0600
TZOFFSETTO:-0700
TZNAME:MST
DTSTART:20251102T080000
END:STANDARD
BEGIN:DAYLIGHT
TZOFFSETFROM:-0700
TZOFFSETTO:-0600
TZNAME:MDT
DTSTART:20260308T090000
END:DAYLIGHT
BEGIN:STANDARD
TZOFFSETFROM:-0600
TZOFFSETTO:-0700
TZNAME:MST
DTSTART:20261101T080000
END:STANDARD
BEGIN:DAYLIGHT
TZOFFSETFROM:-0700
TZOFFSETTO:-0600
TZNAME:MDT
DTSTART:20270314T090000
END:DAYLIGHT
BEGIN:STANDARD
TZOFFSETFROM:-0600
TZOFFSETTO:-0700
TZNAME:MST
DTSTART:20271107T080000
END:STANDARD
END:VTIMEZONE
BEGIN:VEVENT
DTSTART;TZID=America/Denver:20260501T091500
DTEND;TZID=America/Denver:20260501T111500
DTSTAMP:20260425T061005
CREATED:20251212T232335Z
LAST-MODIFIED:20251212T232335Z
UID:10000162-1777626900-1777634100@gjnewcomers.org
SUMMARY:Bowling
DESCRIPTION:Strikes\, Spares\, Gutter Balls – what’s better than bowling? If you like bowling for fun with friendly people\, come join us each Friday morning at 9:15 a.m. at the Orchard Mesa Lanes\, 295 27 Road.  The cost is $8.50 for three games (+$2 if you rent shoes). Men and women bowl separately. All skill levels are welcome.
URL:https://gjnewcomers.org/event/bowling-22/
LOCATION:Orchard Mesa Lanes
CATEGORIES:ACTIVITIES,Bowling
END:VEVENT
BEGIN:VEVENT
DTSTART;TZID=America/Denver:20260508T091500
DTEND;TZID=America/Denver:20260508T111500
DTSTAMP:20260425T061005
CREATED:20251212T232335Z
LAST-MODIFIED:20251212T232335Z
UID:10000163-1778231700-1778238900@gjnewcomers.org
SUMMARY:Bowling
DESCRIPTION:Strikes\, Spares\, Gutter Balls – what’s better than bowling? If you like bowling for fun with friendly people\, come join us each Friday morning at 9:15 a.m. at the Orchard Mesa Lanes\, 295 27 Road.  The cost is $8.50 for three games (+$2 if you rent shoes). Men and women bowl separately. All skill levels are welcome.
URL:https://gjnewcomers.org/event/bowling-23/
LOCATION:Orchard Mesa Lanes
CATEGORIES:ACTIVITIES,Bowling
END:VEVENT
BEGIN:VEVENT
DTSTART;TZID=America/Denver:20260515T091500
DTEND;TZID=America/Denver:20260515T111500
DTSTAMP:20260425T061005
CREATED:20251212T232335Z
LAST-MODIFIED:20251212T232335Z
UID:10000164-1778836500-1778843700@gjnewcomers.org
SUMMARY:Bowling
DESCRIPTION:Strikes\, Spares\, Gutter Balls – what’s better than bowling? If you like bowling for fun with friendly people\, come join us each Friday morning at 9:15 a.m. at the Orchard Mesa Lanes\, 295 27 Road.  The cost is $8.50 for three games (+$2 if you rent shoes). Men and women bowl separately. All skill levels are welcome.
URL:https://gjnewcomers.org/event/bowling-24/
LOCATION:Orchard Mesa Lanes
CATEGORIES:ACTIVITIES,Bowling
END:VEVENT
BEGIN:VEVENT
DTSTART;TZID=America/Denver:20260522T091500
DTEND;TZID=America/Denver:20260522T111500
DTSTAMP:20260425T061005
CREATED:20251212T232335Z
LAST-MODIFIED:20251212T232335Z
UID:10000165-1779441300-1779448500@gjnewcomers.org
SUMMARY:Bowling
DESCRIPTION:Strikes\, Spares\, Gutter Balls – what’s better than bowling? If you like bowling for fun with friendly people\, come join us each Friday morning at 9:15 a.m. at the Orchard Mesa Lanes\, 295 27 Road.  The cost is $8.50 for three games (+$2 if you rent shoes). Men and women bowl separately. All skill levels are welcome.
URL:https://gjnewcomers.org/event/bowling-25/
LOCATION:Orchard Mesa Lanes
CATEGORIES:ACTIVITIES,Bowling
END:VEVENT
BEGIN:VEVENT
DTSTART;TZID=America/Denver:20260529T091500
DTEND;TZID=America/Denver:20260529T111500
DTSTAMP:20260425T061005
CREATED:20251212T232336Z
LAST-MODIFIED:20251212T232336Z
UID:10000166-1780046100-1780053300@gjnewcomers.org
SUMMARY:Bowling
DESCRIPTION:Strikes\, Spares\, Gutter Balls – what’s better than bowling? If you like bowling for fun with friendly people\, come join us each Friday morning at 9:15 a.m. at the Orchard Mesa Lanes\, 295 27 Road.  The cost is $8.50 for three games (+$2 if you rent shoes). Men and women bowl separately. All skill levels are welcome.
URL:https://gjnewcomers.org/event/bowling-26/
LOCATION:Orchard Mesa Lanes
CATEGORIES:ACTIVITIES,Bowling
END:VEVENT
BEGIN:VEVENT
DTSTART;TZID=America/Denver:20260605T091500
DTEND;TZID=America/Denver:20260605T111500
DTSTAMP:20260425T061005
CREATED:20251212T232336Z
LAST-MODIFIED:20251212T232336Z
UID:10000167-1780650900-1780658100@gjnewcomers.org
SUMMARY:Bowling
DESCRIPTION:Strikes\, Spares\, Gutter Balls – what’s better than bowling? If you like bowling for fun with friendly people\, come join us each Friday morning at 9:15 a.m. at the Orchard Mesa Lanes\, 295 27 Road.  The cost is $8.50 for three games (+$2 if you rent shoes). Men and women bowl separately. All skill levels are welcome.
URL:https://gjnewcomers.org/event/bowling-27/
LOCATION:Orchard Mesa Lanes
CATEGORIES:ACTIVITIES,Bowling
END:VEVENT
BEGIN:VEVENT
DTSTART;TZID=America/Denver:20260612T091500
DTEND;TZID=America/Denver:20260612T111500
DTSTAMP:20260425T061005
CREATED:20251212T232336Z
LAST-MODIFIED:20251212T232336Z
UID:10000168-1781255700-1781262900@gjnewcomers.org
SUMMARY:Bowling
DESCRIPTION:Strikes\, Spares\, Gutter Balls – what’s better than bowling? If you like bowling for fun with friendly people\, come join us each Friday morning at 9:15 a.m. at the Orchard Mesa Lanes\, 295 27 Road.  The cost is $8.50 for three games (+$2 if you rent shoes). Men and women bowl separately. All skill levels are welcome.
URL:https://gjnewcomers.org/event/bowling-28/
LOCATION:Orchard Mesa Lanes
CATEGORIES:ACTIVITIES,Bowling
END:VEVENT
BEGIN:VEVENT
DTSTART;TZID=America/Denver:20260619T091500
DTEND;TZID=America/Denver:20260619T111500
DTSTAMP:20260425T061005
CREATED:20251212T232336Z
LAST-MODIFIED:20251212T232336Z
UID:10000169-1781860500-1781867700@gjnewcomers.org
SUMMARY:Bowling
DESCRIPTION:Strikes\, Spares\, Gutter Balls – what’s better than bowling? If you like bowling for fun with friendly people\, come join us each Friday morning at 9:15 a.m. at the Orchard Mesa Lanes\, 295 27 Road.  The cost is $8.50 for three games (+$2 if you rent shoes). Men and women bowl separately. All skill levels are welcome.
URL:https://gjnewcomers.org/event/bowling-29/
LOCATION:Orchard Mesa Lanes
CATEGORIES:ACTIVITIES,Bowling
END:VEVENT
BEGIN:VEVENT
DTSTART;TZID=America/Denver:20260626T091500
DTEND;TZID=America/Denver:20260626T111500
DTSTAMP:20260425T061005
CREATED:20251212T232336Z
LAST-MODIFIED:20251212T232336Z
UID:10000170-1782465300-1782472500@gjnewcomers.org
SUMMARY:Bowling
DESCRIPTION:Strikes\, Spares\, Gutter Balls – what’s better than bowling? If you like bowling for fun with friendly people\, come join us each Friday morning at 9:15 a.m. at the Orchard Mesa Lanes\, 295 27 Road.  The cost is $8.50 for three games (+$2 if you rent shoes). Men and women bowl separately. All skill levels are welcome.
URL:https://gjnewcomers.org/event/bowling-30/
LOCATION:Orchard Mesa Lanes
CATEGORIES:ACTIVITIES,Bowling
END:VEVENT
END:VCALENDAR