BEGIN:VCALENDAR
VERSION:2.0
PRODID:-//Grand Junction Newcomers Club - ECPv6.15.17.1//NONSGML v1.0//EN
CALSCALE:GREGORIAN
METHOD:PUBLISH
X-ORIGINAL-URL:https://gjnewcomers.org
X-WR-CALDESC:Events for Grand Junction Newcomers Club
REFRESH-INTERVAL;VALUE=DURATION:PT1H
X-Robots-Tag:noindex
X-PUBLISHED-TTL:PT1H
BEGIN:VTIMEZONE
TZID:America/Denver
BEGIN:DAYLIGHT
TZOFFSETFROM:-0700
TZOFFSETTO:-0600
TZNAME:MDT
DTSTART:20250309T090000
END:DAYLIGHT
BEGIN:STANDARD
TZOFFSETFROM:-0600
TZOFFSETTO:-0700
TZNAME:MST
DTSTART:20251102T080000
END:STANDARD
BEGIN:DAYLIGHT
TZOFFSETFROM:-0700
TZOFFSETTO:-0600
TZNAME:MDT
DTSTART:20260308T090000
END:DAYLIGHT
BEGIN:STANDARD
TZOFFSETFROM:-0600
TZOFFSETTO:-0700
TZNAME:MST
DTSTART:20261101T080000
END:STANDARD
BEGIN:DAYLIGHT
TZOFFSETFROM:-0700
TZOFFSETTO:-0600
TZNAME:MDT
DTSTART:20270314T090000
END:DAYLIGHT
BEGIN:STANDARD
TZOFFSETFROM:-0600
TZOFFSETTO:-0700
TZNAME:MST
DTSTART:20271107T080000
END:STANDARD
END:VTIMEZONE
BEGIN:VEVENT
DTSTART;TZID=America/Denver:20260319T084500
DTEND;TZID=America/Denver:20260319T123000
DTSTAMP:20260424T021923
CREATED:20251211T232332Z
LAST-MODIFIED:20260318T005309Z
UID:10000184-1773909900-1773923400@gjnewcomers.org
SUMMARY:Hiking
DESCRIPTION:It is time for an easy hike again\, one that has little elevation change.  We have done most of the riverside trail between Clifton and Fruita; but one section we have not completed until now: the middle section.  We will start near the river confluence that made Grand Junction come to importance\, founded near the junction of the Colorado (formerly called the Grand) and the Gunnison River.  We will learn about the 1882 bank robbery by Robert Parker\, later known as Butch Cassidy.  We will cross under the 5-span railroad trestle (A train was going through when I checked it out.) and the 5th street Bridge with the support piers covered with art.  We will pass close to the Colorado river and view waterfowl.  We will find out where you can play frisbee golf.  You will learn where Grand Junction has it’s Renaissance Festival. We will walk near the Botanical Garden and view the DAR (Daughter of the American Revolution) Memorial Garden and the Pollinator Garden.  The out-and-back walk will be about 4 miles and 2 hours.  There are many benches alongside the path that you may rest until the group returns\, or they may be a rest and reflection on a future walk with someone special.\n\n    We will meet at 0900\, at a place that we have not met before:  From Riverside Parkway\, near the big oil tanks\, in the Confluence area meet behind the new  Starbucks Coffee ( 2601 Dos Rios Dr setting on Google Maps) in the parking lot closer to the Kids Bike area.  (The kids should be in school so they will not bother us.)\n\n   Afterwards we can have coffee nearby or go to a local restaurant\, if you wish.
URL:https://gjnewcomers.org/event/hiking-13/
CATEGORIES:ACTIVITIES,Hiking
END:VEVENT
END:VCALENDAR