BEGIN:VCALENDAR
VERSION:2.0
PRODID:-//Grand Junction Newcomers Club - ECPv6.15.17.1//NONSGML v1.0//EN
CALSCALE:GREGORIAN
METHOD:PUBLISH
X-ORIGINAL-URL:https://gjnewcomers.org
X-WR-CALDESC:Events for Grand Junction Newcomers Club
REFRESH-INTERVAL;VALUE=DURATION:PT1H
X-Robots-Tag:noindex
X-PUBLISHED-TTL:PT1H
BEGIN:VTIMEZONE
TZID:America/Denver
BEGIN:DAYLIGHT
TZOFFSETFROM:-0700
TZOFFSETTO:-0600
TZNAME:MDT
DTSTART:20250309T090000
END:DAYLIGHT
BEGIN:STANDARD
TZOFFSETFROM:-0600
TZOFFSETTO:-0700
TZNAME:MST
DTSTART:20251102T080000
END:STANDARD
BEGIN:DAYLIGHT
TZOFFSETFROM:-0700
TZOFFSETTO:-0600
TZNAME:MDT
DTSTART:20260308T090000
END:DAYLIGHT
BEGIN:STANDARD
TZOFFSETFROM:-0600
TZOFFSETTO:-0700
TZNAME:MST
DTSTART:20261101T080000
END:STANDARD
BEGIN:DAYLIGHT
TZOFFSETFROM:-0700
TZOFFSETTO:-0600
TZNAME:MDT
DTSTART:20270314T090000
END:DAYLIGHT
BEGIN:STANDARD
TZOFFSETFROM:-0600
TZOFFSETTO:-0700
TZNAME:MST
DTSTART:20271107T080000
END:STANDARD
END:VTIMEZONE
BEGIN:VEVENT
DTSTART;TZID=America/Denver:20260312T084500
DTEND;TZID=America/Denver:20260312T123000
DTSTAMP:20260424T021954
CREATED:20251211T232219Z
LAST-MODIFIED:20260311T191137Z
UID:10000183-1773305100-1773318600@gjnewcomers.org
SUMMARY:Hiking
DESCRIPTION:We have been in Devil’s Canyon several times. Normally we hike on the canyon floor.  This time we will take to the sky where the D5 trail  climbs a hill to the west and follows a course that leads around the rims of all of the lower canyons overlooking the D4 and D6 trails.   You will get wonderful vistas of the Mcinnis Canyon around\, the book cliffs to the North\, sky above\, and the canyon floor below.  You will finally get a good view of what makes up the ever-watching\, 🦆 “duck rock”. 🦆   This climb will take you about 200 feet vertical elevation to get up to the canyon rim and traverse around 4 miles.  Our hike may take a little longer than we usually trek\, around 2.5 hours.\n\nMeet in Fruita at the Dinosaur Journey\, East side at 0845.  We will carpool to the Devil’s Canyon parking area.  Thursday morning will be somewhat cool\, in the upper 40’s and low 50’s\, almost perfect weather for this hike.  Sunny weather is expected.  Afterwards\, Munchies?\n 
URL:https://gjnewcomers.org/event/hiking-12/
CATEGORIES:ACTIVITIES,Hiking
END:VEVENT
END:VCALENDAR