BEGIN:VCALENDAR
VERSION:2.0
PRODID:-//Grand Junction Newcomers Club - ECPv6.15.17.1//NONSGML v1.0//EN
CALSCALE:GREGORIAN
METHOD:PUBLISH
X-ORIGINAL-URL:https://gjnewcomers.org
X-WR-CALDESC:Events for Grand Junction Newcomers Club
REFRESH-INTERVAL;VALUE=DURATION:PT1H
X-Robots-Tag:noindex
X-PUBLISHED-TTL:PT1H
BEGIN:VTIMEZONE
TZID:America/Denver
BEGIN:DAYLIGHT
TZOFFSETFROM:-0700
TZOFFSETTO:-0600
TZNAME:MDT
DTSTART:20240310T090000
END:DAYLIGHT
BEGIN:STANDARD
TZOFFSETFROM:-0600
TZOFFSETTO:-0700
TZNAME:MST
DTSTART:20241103T080000
END:STANDARD
BEGIN:DAYLIGHT
TZOFFSETFROM:-0700
TZOFFSETTO:-0600
TZNAME:MDT
DTSTART:20250309T090000
END:DAYLIGHT
BEGIN:STANDARD
TZOFFSETFROM:-0600
TZOFFSETTO:-0700
TZNAME:MST
DTSTART:20251102T080000
END:STANDARD
BEGIN:DAYLIGHT
TZOFFSETFROM:-0700
TZOFFSETTO:-0600
TZNAME:MDT
DTSTART:20260308T090000
END:DAYLIGHT
BEGIN:STANDARD
TZOFFSETFROM:-0600
TZOFFSETTO:-0700
TZNAME:MST
DTSTART:20261101T080000
END:STANDARD
BEGIN:DAYLIGHT
TZOFFSETFROM:-0700
TZOFFSETTO:-0600
TZNAME:MDT
DTSTART:20270314T090000
END:DAYLIGHT
BEGIN:STANDARD
TZOFFSETFROM:-0600
TZOFFSETTO:-0700
TZNAME:MST
DTSTART:20271107T080000
END:STANDARD
END:VTIMEZONE
BEGIN:VEVENT
DTSTART;TZID=America/Denver:20260326T160000
DTEND;TZID=America/Denver:20260326T180000
DTSTAMP:20260425T044907
CREATED:20260118T163914Z
LAST-MODIFIED:20260212T205748Z
UID:10000371-1774540800-1774548000@gjnewcomers.org
SUMMARY:Wine Tasting
DESCRIPTION:Our next wine tasting is on Thursday March 26th from 4-6pm at the Art Center. Cost will remain $25.00. Wines from Portugal will be sampled and can be ordered for purchase from Fisher’s Liquor Barn.  Payment deadline is March 19th and no reservations will be accepted after that.  Please send your check for $25/person (made out to Newcomers Club of Grand Junction) to Ken Seitz and be sure it arrives by the deadline.  Any questions\, please contact Lisa at lisa.seitz623@gmail.com or at 303-263-4391. Please keep in mind that the deadline for the event is always 1 week prior to the tasting and we must have received your check by that time in order for you attend.
URL:https://gjnewcomers.org/event/wine-tasting-3/
LOCATION:Art Cemter of Western Colorado\, 1803 N 7th St\, Grand Junction\, CO\, 81501\, United States
CATEGORIES:ACTIVITIES,Wine Tasting
END:VEVENT
BEGIN:VEVENT
DTSTART;TZID=America/Denver:20260115T160000
DTEND;TZID=America/Denver:20260115T180000
DTSTAMP:20260425T044907
CREATED:20251116T170720Z
LAST-MODIFIED:20251211T231418Z
UID:10000100-1768492800-1768500000@gjnewcomers.org
SUMMARY:Wine Tasting
DESCRIPTION:Our next wine tasting is scheduled for Thursday January 15th from 4-6 at the Art Center. Cost will remain $25.00.  We will be tasting South American Wines. Deadline for reservations is January 8th. Please send a check made to Newcomers Club to Ken Seitz\, 2675 Autumn Brook Ct\, Grand Junction\, 81506.  Any questions\, please contact Lisa at lisa.seitz623@gmail.com or at 303-263-4391.
URL:https://gjnewcomers.org/event/wine-tasting-2/
LOCATION:Art Cemter of Western Colorado\, 1803 N 7th St\, Grand Junction\, CO\, 81501\, United States
CATEGORIES:ACTIVITIES,Wine Tasting
END:VEVENT
BEGIN:VEVENT
DTSTART;TZID=America/Denver:20251211T090000
DTEND;TZID=America/Denver:20251211T113000
DTSTAMP:20260425T044907
CREATED:20251125T153930Z
LAST-MODIFIED:20251211T231043Z
UID:10000104-1765443600-1765452600@gjnewcomers.org
SUMMARY:Mahjong
DESCRIPTION:American Mahjong game every Thursday at St. Marys Coffee Shop
URL:https://gjnewcomers.org/event/mahjong-3/
LOCATION:CO
CATEGORIES:ACTIVITIES,Mah Jongg
END:VEVENT
BEGIN:VEVENT
DTSTART;TZID=America/Denver:20251204T090000
DTEND;TZID=America/Denver:20251204T113000
DTSTAMP:20260425T044907
CREATED:20251125T153930Z
LAST-MODIFIED:20251211T231014Z
UID:10000103-1764838800-1764847800@gjnewcomers.org
SUMMARY:Mahjong
DESCRIPTION:American Mahjong game every Thursday at St. Marys Coffee Shop
URL:https://gjnewcomers.org/event/mahjong-2/
LOCATION:CO
CATEGORIES:ACTIVITIES,Mah Jongg
END:VEVENT
BEGIN:VEVENT
DTSTART;TZID=America/Denver:20251120T090000
DTEND;TZID=America/Denver:20251120T113000
DTSTAMP:20260425T044907
CREATED:20251118T193058Z
LAST-MODIFIED:20251211T230944Z
UID:10000102-1763629200-1763638200@gjnewcomers.org
SUMMARY:Mahjong
DESCRIPTION:American Mahjong game every Thursday at St. Marys Coffee Shop
URL:https://gjnewcomers.org/event/mahjong/
LOCATION:CO
CATEGORIES:ACTIVITIES,Mah Jongg
END:VEVENT
BEGIN:VEVENT
DTSTART;TZID=America/Denver:20251119T120000
DTEND;TZID=America/Denver:20251119T140000
DTSTAMP:20260425T044907
CREATED:20251112T080530Z
LAST-MODIFIED:20251211T230920Z
UID:10000098-1763553600-1763560800@gjnewcomers.org
SUMMARY:Singular Diners
DESCRIPTION:Singular Diners is for the those who want to experience the many restaurants in the Grand \nValley area but hesitate to dine alone. Please join us at our next lunch on Nov. 19 at noon at \nGinger Oriental Restaurant\, 2381 Patterson\, Grand Junction. Please confirm your attendance \nto Lina bluetopaz1129@yahoo.com or (626) 993-7046.
URL:https://gjnewcomers.org/event/singular-diners/
LOCATION:Ginger Oriental Restaurant\, 2381 Patterson\, Grand Junction\, CO\, United States
CATEGORIES:ACTIVITIES,Solo Diners
ORGANIZER;CN="Lina Palomo":MAILTO:BlueTopaz1129@yahoo.com
END:VEVENT
BEGIN:VEVENT
DTSTART;TZID=America/Denver:20251117T133000
DTEND;TZID=America/Denver:20251117T153000
DTSTAMP:20260425T044907
CREATED:20251112T075845Z
LAST-MODIFIED:20251211T230900Z
UID:10000097-1763386200-1763393400@gjnewcomers.org
SUMMARY:Knitting
DESCRIPTION:Join this fun group of knitters and crocheters to work on your needlework projects\, learn from each other and make friends. New members are always welcome to bring a project to work on or get advice on a tricky stitch or unclear directions. This group meets monthly\, generally in members’ homes every 3rd Wednesday of the month from 1:30 to 3 p.m. All levels welcome – whether you’re making a simple baby’s hat or a complex afghan\, this is the group for you.  Knitting will meet Monday\, Nov. 17 at 1:30 – 3:30 pm at Suzan Fournier’s home: 3088 Mandan\, GJ.
URL:https://gjnewcomers.org/event/knitting/
LOCATION:CO
CATEGORIES:ACTIVITIES,Knitting Club
ORGANIZER;CN="Susan Fournier":MAILTO:suzanfour@msn.com
END:VEVENT
BEGIN:VEVENT
DTSTART;TZID=America/Denver:20251113T090000
DTEND;TZID=America/Denver:20251113T113000
DTSTAMP:20260425T044907
CREATED:20251112T045705Z
LAST-MODIFIED:20251211T230753Z
UID:10000093-1763024400-1763033400@gjnewcomers.org
SUMMARY:Mah Jongg
DESCRIPTION:American Mah Jongg game every Thursday at St. Marys Pavilion. Contact the Nancy Hollmaier if you would like to join the group.
URL:https://gjnewcomers.org/event/mahjong-6/
LOCATION:St. Mary’s Coffee Pavilion\, 750 Wellington\, Grand Junction\, CO\, 81501\, United States
CATEGORIES:ACTIVITIES,Mah Jongg
ORGANIZER;CN="Nancy Hollmaier":MAILTO:NancyKSH@gmail.com
END:VEVENT
BEGIN:VEVENT
DTSTART;TZID=America/Denver:20251113T084500
DTEND;TZID=America/Denver:20251113T113000
DTSTAMP:20260425T044907
CREATED:20251112T053107Z
LAST-MODIFIED:20251211T230742Z
UID:10000095-1763023500-1763033400@gjnewcomers.org
SUMMARY:Hiking - Inner Flume Trail
DESCRIPTION:Thursday\, we will hike the inner Flume trail of Mcinnis Canyon (trailhead near Pollack Bench) .  This will be led by Jim.  This is a  beautiful canyon through Entrada sandstone\, with excellent views.  It is nominally 5 miles and 600 feet elevation change; but I think Jim will cut it down for us Newcomers.  It will be sunny and around 50 degrees.  Great hiking weather!\n\nPlease meet in Furita at Dinosaur Journey on the East side Thursday at 0845.  We will carpool to the trailhead.  Those that wish can meet at award-winning Munchies for lunch afterwards.
URL:https://gjnewcomers.org/event/hiking-inner-flume-trail/
LOCATION:Dinosaur Journey Museum\, 550 Jurassic Ct\, Fruita\, CO\, 81521\, United States
CATEGORIES:ACTIVITIES,Hiking
ORGANIZER;CN="Douglas Grodt":MAILTO:newcomerhikers@gmail.com
END:VEVENT
END:VCALENDAR