BEGIN:VCALENDAR
VERSION:2.0
PRODID:-//Grand Junction Newcomers Club - ECPv6.15.17.1//NONSGML v1.0//EN
CALSCALE:GREGORIAN
METHOD:PUBLISH
X-ORIGINAL-URL:https://gjnewcomers.org
X-WR-CALDESC:Events for Grand Junction Newcomers Club
REFRESH-INTERVAL;VALUE=DURATION:PT1H
X-Robots-Tag:noindex
X-PUBLISHED-TTL:PT1H
BEGIN:VTIMEZONE
TZID:America/Denver
BEGIN:DAYLIGHT
TZOFFSETFROM:-0700
TZOFFSETTO:-0600
TZNAME:MDT
DTSTART:20250309T090000
END:DAYLIGHT
BEGIN:STANDARD
TZOFFSETFROM:-0600
TZOFFSETTO:-0700
TZNAME:MST
DTSTART:20251102T080000
END:STANDARD
BEGIN:DAYLIGHT
TZOFFSETFROM:-0700
TZOFFSETTO:-0600
TZNAME:MDT
DTSTART:20260308T090000
END:DAYLIGHT
BEGIN:STANDARD
TZOFFSETFROM:-0600
TZOFFSETTO:-0700
TZNAME:MST
DTSTART:20261101T080000
END:STANDARD
BEGIN:DAYLIGHT
TZOFFSETFROM:-0700
TZOFFSETTO:-0600
TZNAME:MDT
DTSTART:20270314T090000
END:DAYLIGHT
BEGIN:STANDARD
TZOFFSETFROM:-0600
TZOFFSETTO:-0700
TZNAME:MST
DTSTART:20271107T080000
END:STANDARD
END:VTIMEZONE
BEGIN:VEVENT
DTSTART;TZID=America/Denver:20260423T090000
DTEND;TZID=America/Denver:20260423T110000
DTSTAMP:20260423T090936
CREATED:20251216T165309Z
LAST-MODIFIED:20260201T183906Z
UID:10000456-1776934800-1776942000@gjnewcomers.org
SUMMARY:Mahjong
DESCRIPTION:Mahjong before holiday lunch \nLocation : SpyGlass Club House\,  across from 2693 Lookout Lane 80503\n( Hwy 50 toward Delta\, Turn on 27 Rd\,   Right on Spyglass Drive ; wind to top of hill. At stop sign turn Left onto Lookout Lane. Follow until the club house is on the left. Park on street or lot (make sure to leave one spot open for employees) \nThe club house is open to members of SpyGlass subdivision at all times and meetings may be running concurrently. We are responsible for table setup\, breakdown and general cleanliness of area during usage. Bring your own water bottles\, coffee etc and take them as you leave. The tables are best with our wonderful pads.
URL:https://gjnewcomers.org/event/mahjong-27/2026-04-23/
LOCATION:SpyGlass Club House\, 2694 Lookout Lane\, Grand Junction\, CO\, 81503
CATEGORIES:ACTIVITIES,Mah Jongg
ORGANIZER;CN="Nancy Hollmaier":MAILTO:NancyKSH@gmail.com
END:VEVENT
END:VCALENDAR